BEGIN:VCALENDAR
VERSION:2.0
PRODID:-//Plone.org//NONSGML plone.app.event//EN
X-WR-TIMEZONE:Europe/Amsterdam
BEGIN:VEVENT
SUMMARY:ASHA 2025. Conferentie + Scholenbezoek cluster 2. Washington D.C. 
 15-22 november 2025
DTSTART;VALUE=DATE:20251115
DTEND;VALUE=DATE:20251123
DTSTAMP;VALUE=DATE-TIME:20260421T123221Z
UID:62eeedb0350444fcbbc37584bc901dd9
CREATED;VALUE=DATE-TIME:20241228T194003Z
DESCRIPTION:Speech-Language-Hearing in the US. Visit the ASHA 2025 convent
 ion. Combined tour with participating in the ASHA 2025 event in Washington
  DC\, with school visits in and around Washington DC\, plus an academic pr
 ogramme at a university. 15-22 November 2025.Registration at Exhem open to
  Dutch and other international professionals
LAST-MODIFIED;VALUE=DATE-TIME:20250428T134033Z
URL:https://www.exhem.eu/education/asha-2025-conferentie-scholenbezoek-clu
 ster-2-washington-d-c-15-22-november-2025
END:VEVENT
END:VCALENDAR
