BEGIN:VCALENDAR
VERSION:2.0
PRODID:-//Plone.org//NONSGML plone.app.event//EN
X-WR-TIMEZONE:Europe/Amsterdam
BEGIN:VEVENT
SUMMARY:Energietransitie en Digitalisering in Smart Cities - Waar werkt he
 t al?
DTSTART;VALUE=DATE:20210418
DTEND;VALUE=DATE:20210424
DTSTAMP;VALUE=DATE-TIME:20260421T123719Z
UID:835e784b32aa453387f48666c23942e6
CREATED;VALUE=DATE-TIME:20191019T174854Z
DESCRIPTION:Studiereis naar succesvol geïmplementeerde projecten in Noorw
 egen en Zweden\, 18 - 23 april 2021.
LAST-MODIFIED;VALUE=DATE-TIME:20250428T130036Z
URL:https://www.exhem.eu/education/energietransitie-en-digitalisering-in-s
 mart-cities-waar-werkt-het-al
END:VEVENT
END:VCALENDAR
