BEGIN:VCALENDAR
VERSION:2.0
PRODID:-//Plone.org//NONSGML plone.app.event//EN
X-WR-TIMEZONE:Europe/Amsterdam
BEGIN:VEVENT
SUMMARY:Studiereis IJsland inclusie 11-18 april 2026
DTSTART;VALUE=DATE:20260411
DTEND;VALUE=DATE:20260419
DTSTAMP;VALUE=DATE-TIME:20260421T123930Z
UID:2453770f1e5d498f90bca6757531d924
CREATED;VALUE=DATE-TIME:20241224T110801Z
DESCRIPTION:Inspiratie voor inclusiever onderwijs in de praktijk. In samen
 werking met de Sectorraad GO. Exhem is expert in studiereizen voor het ond
 erwijs. Ook IJsland is geen onbekend terrein. Dankzij de samenwerking met 
 onze IJslandse partner zijn we in staat een waardevol programma aan te bie
 den. Vanaf 2018 tot nu heeft Exhem een tiental reizen naar IJsland georgan
 iseerd. We hebben reizen voor PO en voor VO. We zijn thuis in de stedelijk
 e context (Reykjavik)\, maar ook op het platteland. Veel van onze reizen h
 ebben inclusie als hoofdthema\, maar IJsland heeft ook veel te bieden op h
 et terrein van leiderschap en doorgaande lijn. IJsland biedt al jaren incl
 usief onderwijs\, deels vanwege noodzaak en geografie\, maar ook vanwege d
 e maatschappelijke commitment die er is rondom inclusie.
LAST-MODIFIED;VALUE=DATE-TIME:20251107T090733Z
URL:https://www.exhem.eu/education/studiereis-ijsland-inclusie-4-11-oktobe
 r-2025
END:VEVENT
END:VCALENDAR
