BEGIN:VCALENDAR
VERSION:2.0
PRODID:-//Plone.org//NONSGML plone.app.event//EN
X-WR-TIMEZONE:Europe/Amsterdam
BEGIN:VEVENT
SUMMARY:Studiereis naar IJsland\, inspiratie voor inclusiever onderwijs in
  de praktijk.
DTSTART;VALUE=DATE:20241019
DTEND;VALUE=DATE:20241027
DTSTAMP;VALUE=DATE-TIME:20260421T105107Z
UID:772b6551c0ed4e0689ba798388915cc1
CREATED;VALUE=DATE-TIME:20190621T125828Z
DESCRIPTION:Exhem is expert in studiereizen voor het onderwijs.Ook IJsland
  is geen onbekend terrein. Dankzij de samenwerking met onze IJslandse part
 ner zijn we in staat een waardevol programma aan te bieden. Vanaf 2018 tot
  nu heeft Exhem een tiental reizen naar IJsland georganiseerd.We hebben re
 izen voor PO en voor VO. We zijn thuis in de stedelijke context (Reykjavik
 )\, maar ook op het platteland.Veel van onze reizen hebben inclusie als ho
 ofdthema\, maar IJsland heeft ook veel te bieden op het terrein van leider
 schap en doorgaande lijn.IJsland biedt al jaren inclusief onderwijs\, deel
 s vanwege noodzaak en geografie\,maar ook vanwege de maatschappelijke comm
 itment die er is rondom inclusie.
LAST-MODIFIED;VALUE=DATE-TIME:20240205T181434Z
URL:https://www.exhem.eu/education/studiereis-speciaal-onderwijs-ijsland-1
END:VEVENT
END:VCALENDAR
