BEGIN:VCALENDAR
VERSION:2.0
PRODID:-//Plone.org//NONSGML plone.app.event//EN
X-WR-TIMEZONE:Europe/Amsterdam
BEGIN:VEVENT
SUMMARY:Study tour education to Connecticut and New York City\, US. 4-10 O
 ctober 2025.
DTSTART;VALUE=DATE:20251004
DTEND;VALUE=DATE:20251012
DTSTAMP;VALUE=DATE-TIME:20260421T123135Z
UID:adaa02283896490bb58df930bfdcf983
CREATED;VALUE=DATE-TIME:20250319T212900Z
DESCRIPTION:Studiereis naar New York en Connecticut USA: Inspiratie voor o
 nderwijs aan (hoog)begaafde en dubbel-bijzondere leerlingen.       Study t
 our education to Connecticut and New York City\, US. 4-10 October 2025.  I
 nspiration for education for gifted and twice exceptional students
LAST-MODIFIED;VALUE=DATE-TIME:20250605T143907Z
URL:https://www.exhem.eu/education/study-tour-education-to-connecticut-and
 -new-york-city-us-4-10-october-2025
END:VEVENT
END:VCALENDAR
