BEGIN:VCALENDAR
VERSION:2.0
PRODID:-//Plone.org//NONSGML plone.app.event//EN
X-WR-TIMEZONE:Europe/Amsterdam
BEGIN:VEVENT
SUMMARY:Training Leiderschap PO in Reykjavik\, IJsland 5-9 november 2023
DTSTART;VALUE=DATE:20231105
DTEND;VALUE=DATE:20231110
DTSTAMP;VALUE=DATE-TIME:20260421T123555Z
UID:c4db3b7d8f5440d7943570c23f6bd85f
CREATED;VALUE=DATE-TIME:20231019T100502Z
DESCRIPTION:De trainingscursus betreft een combinatie van bezoeken aan sch
 olen en instellingen die een belangrijke rol spelen in de leiderschapsvorm
 ing ten aanzien van het basisonderwijs\, alsmede de praktijk van inclusief
 /passend onderwijs in IJsland.De cursus staat open voor deelname van profe
 ssionals uit Nederland en België.Indien Belgische collega’s inschrijven
  op de leiderschapscursus wordt de groepsgrootte niet hoger dan 35 persone
 n.
LAST-MODIFIED;VALUE=DATE-TIME:20231019T103658Z
URL:https://www.exhem.eu/education/training-leiderschap-po-in-reykjavik-ij
 sland-5-9-november-2023
END:VEVENT
END:VCALENDAR
